Package: kmcut Version: 1.1.0 Command: /Library/Frameworks/R.framework/Resources/bin/R CMD build --keep-empty-dirs --no-resave-data kmcut StartedAt: 2025-02-05 17:09:36 -0500 (Wed, 05 Feb 2025) EndedAt: 2025-02-05 17:10:23 -0500 (Wed, 05 Feb 2025) EllapsedTime: 47.0 seconds RetCode: 0 Status: OK PackageFile: kmcut_1.1.0.tar.gz PackageFileSize: 1.26 MiB