Package: kmcut Version: 1.3.0 Command: rm -rf kmcut.buildbin-libdir && mkdir kmcut.buildbin-libdir && /Users/biocbuild/BBS/utils/build-universal.sh kmcut_1.3.0.tar.gz /Library/Frameworks/R.framework/Resources/bin/R kmcut.buildbin-libdir StartedAt: 2025-09-29 01:47:23 -0400 (Mon, 29 Sep 2025) EndedAt: 2025-09-29 01:47:56 -0400 (Mon, 29 Sep 2025) EllapsedTime: 33.8 seconds RetCode: 0 Status: OK PackageFile: kmcut_1.3.0.tgz PackageFileSize: 1.278 MiB