Package: kissDE Version: 1.29.0 Command: /home/biocbuild/R/R/bin/R CMD INSTALL kissDE StartedAt: 2025-10-16 21:44:41 -0000 (Thu, 16 Oct 2025) EndedAt: 2025-10-16 21:45:37 -0000 (Thu, 16 Oct 2025) EllapsedTime: 56.4 seconds RetCode: 0 Status: OK