Package: kissDE Version: 1.29.0 Command: /home/biocbuild/bbs-3.22-bioc/R/bin/R CMD build --keep-empty-dirs --no-resave-data --md5 kissDE StartedAt: 2025-10-03 18:18:38 -0400 (Fri, 03 Oct 2025) EndedAt: 2025-10-03 18:20:33 -0400 (Fri, 03 Oct 2025) EllapsedTime: 115.2 seconds RetCode: 0 Status: OK PackageFile: kissDE_1.29.0.tar.gz PackageFileSize: 856.7 KiB