Package: keggorthology Version: 2.59.0 Command: /home/biocbuild/bbs-3.21-bioc/R/bin/R CMD INSTALL keggorthology StartedAt: 2025-01-10 15:18:47 -0500 (Fri, 10 Jan 2025) EndedAt: 2025-01-10 15:18:59 -0500 (Fri, 10 Jan 2025) EllapsedTime: 12.9 seconds RetCode: 0 Status: OK