Package: katdetectr Version: 1.9.0 Command: /home/biocbuild/bbs-3.21-bioc/R/bin/R CMD build --keep-empty-dirs --no-resave-data katdetectr StartedAt: 2025-02-03 17:58:05 -0500 (Mon, 03 Feb 2025) EndedAt: 2025-02-03 17:59:24 -0500 (Mon, 03 Feb 2025) EllapsedTime: 79.1 seconds RetCode: 0 Status: OK PackageFile: katdetectr_1.9.0.tar.gz PackageFileSize: 1.344 MiB