Package: katdetectr Version: 1.9.0 Command: /Library/Frameworks/R.framework/Resources/bin/R CMD check --install=check:katdetectr.install-out.txt --library=/Library/Frameworks/R.framework/Resources/library --no-vignettes --timings katdetectr_1.9.0.tar.gz StartedAt: 2025-02-03 21:18:44 -0500 (Mon, 03 Feb 2025) EndedAt: 2025-02-03 21:24:33 -0500 (Mon, 03 Feb 2025) EllapsedTime: 348.6 seconds RetCode: 0 Status: OK CheckDir: katdetectr.Rcheck Warnings: 0