Package: katdetectr Version: 1.11.1 Command: /Library/Frameworks/R.framework/Resources/bin/R CMD build --keep-empty-dirs --no-resave-data katdetectr StartedAt: 2025-05-09 17:19:56 -0400 (Fri, 09 May 2025) EndedAt: 2025-05-09 17:21:36 -0400 (Fri, 09 May 2025) EllapsedTime: 99.7 seconds RetCode: 0 Status: OK PackageFile: katdetectr_1.11.1.tar.gz PackageFileSize: 1.462 MiB