Package: karyoploteR Version: 1.35.3 Command: /home/biocbuild/bbs-3.22-bioc/R/bin/R CMD INSTALL karyoploteR StartedAt: 2025-10-23 15:45:57 -0400 (Thu, 23 Oct 2025) EndedAt: 2025-10-23 15:47:01 -0400 (Thu, 23 Oct 2025) EllapsedTime: 64.1 seconds RetCode: 0 Status: OK