Package: jazzPanda Version: 1.1.1 Command: /home/biocbuild/bbs-3.22-bioc/R/bin/R CMD INSTALL jazzPanda StartedAt: 2025-10-06 15:21:16 -0400 (Mon, 06 Oct 2025) EndedAt: 2025-10-06 15:21:47 -0400 (Mon, 06 Oct 2025) EllapsedTime: 31.4 seconds RetCode: 0 Status: OK