Package: jazzPanda Version: 1.1.1 Command: /home/biocbuild/bbs-3.22-bioc/R/bin/R CMD build --keep-empty-dirs --no-resave-data --md5 jazzPanda StartedAt: 2025-10-06 18:17:29 -0400 (Mon, 06 Oct 2025) EndedAt: 2025-10-06 18:20:55 -0400 (Mon, 06 Oct 2025) EllapsedTime: 205.2 seconds RetCode: 0 Status: OK PackageFile: jazzPanda_1.1.1.tar.gz PackageFileSize: 4.763 MiB