Package: jazzPanda Version: 1.3.0 Command: /Library/Frameworks/R.framework/Resources/bin/R CMD INSTALL jazzPanda StartedAt: 2025-11-25 15:40:27 -0500 (Tue, 25 Nov 2025) EndedAt: 2025-11-25 15:41:11 -0500 (Tue, 25 Nov 2025) EllapsedTime: 43.2 seconds RetCode: 0 Status: OK