Package: jazzPanda Version: 1.3.0 Command: /Library/Frameworks/R.framework/Resources/bin/R CMD build --keep-empty-dirs --no-resave-data jazzPanda StartedAt: 2025-11-25 17:41:10 -0500 (Tue, 25 Nov 2025) EndedAt: 2025-11-25 17:44:47 -0500 (Tue, 25 Nov 2025) EllapsedTime: 216.3 seconds RetCode: 0 Status: OK PackageFile: jazzPanda_1.3.0.tar.gz PackageFileSize: 4.097 MiB