Package: jazzPanda Version: 1.3.0 Command: /Library/Frameworks/R.framework/Resources/bin/R CMD build --keep-empty-dirs --no-resave-data jazzPanda StartedAt: 2025-11-13 16:49:16 -0500 (Thu, 13 Nov 2025) EndedAt: 2025-11-13 16:50:37 -0500 (Thu, 13 Nov 2025) EllapsedTime: 80.9 seconds RetCode: 0 Status: OK PackageFile: jazzPanda_1.3.0.tar.gz PackageFileSize: 4.099 MiB