Package: jazzPanda Version: 1.3.0 Command: rm -rf jazzPanda.buildbin-libdir && mkdir jazzPanda.buildbin-libdir && /Users/biocbuild/BBS/utils/build-universal.sh jazzPanda_1.3.0.tar.gz /Library/Frameworks/R.framework/Resources/bin/R jazzPanda.buildbin-libdir StartedAt: 2025-11-13 23:42:47 -0500 (Thu, 13 Nov 2025) EndedAt: 2025-11-13 23:43:03 -0500 (Thu, 13 Nov 2025) EllapsedTime: 16.4 seconds RetCode: 0 Status: OK PackageFile: jazzPanda_1.3.0.tgz PackageFileSize: 4.178 MiB