Package: ivygapSE Version: 1.31.0 Command: /home/biocbuild/R/R/bin/R CMD build --keep-empty-dirs --no-resave-data ivygapSE StartedAt: 2025-10-07 00:33:48 -0000 (Tue, 07 Oct 2025) EndedAt: 2025-10-07 00:36:32 -0000 (Tue, 07 Oct 2025) EllapsedTime: 164.1 seconds RetCode: 0 Status: OK PackageFile: ivygapSE_1.31.0.tar.gz PackageFileSize: 14.88 MiB