Package: ivygapSE Version: 1.31.0 Command: F:\biocbuild\bbs-3.22-bioc\R\bin\R.exe CMD INSTALL ivygapSE StartedAt: 2025-08-14 16:01:09 -0400 (Thu, 14 Aug 2025) EndedAt: 2025-08-14 16:01:45 -0400 (Thu, 14 Aug 2025) EllapsedTime: 36.5 seconds RetCode: 0 Status: OK