Package: ivygapSE Version: 1.29.0 Command: chmod a+r ivygapSE -R && E:\biocbuild\bbs-3.21-bioc\R\bin\R.exe CMD build --keep-empty-dirs --no-resave-data ivygapSE StartedAt: 2025-02-09 19:29:16 -0500 (Sun, 09 Feb 2025) EndedAt: 2025-02-09 19:31:46 -0500 (Sun, 09 Feb 2025) EllapsedTime: 150.3 seconds RetCode: 0 Status: OK PackageFile: ivygapSE_1.29.0.tar.gz PackageFileSize: 15.28 MiB