Package: ivygapSE Version: 1.29.0 Command: /home/biocbuild/bbs-3.21-bioc/R/bin/R CMD INSTALL ivygapSE StartedAt: 2025-02-05 15:18:02 -0500 (Wed, 05 Feb 2025) EndedAt: 2025-02-05 15:18:31 -0500 (Wed, 05 Feb 2025) EllapsedTime: 28.6 seconds RetCode: 0 Status: OK