Package: ivygapSE Version: 1.29.0 Command: /home/biocbuild/bbs-3.21-bioc/R/bin/R CMD check --install=check:ivygapSE.install-out.txt --library=/home/biocbuild/bbs-3.21-bioc/R/site-library --timings ivygapSE_1.29.0.tar.gz StartedAt: 2025-02-05 23:35:22 -0500 (Wed, 05 Feb 2025) EndedAt: 2025-02-05 23:40:31 -0500 (Wed, 05 Feb 2025) EllapsedTime: 308.5 seconds RetCode: 0 Status: OK CheckDir: ivygapSE.Rcheck Warnings: 0