Package: ivygapSE Version: 1.29.0 Command: /Library/Frameworks/R.framework/Resources/bin/R CMD check --install=check:ivygapSE.install-out.txt --library=/Library/Frameworks/R.framework/Resources/library --no-vignettes --timings ivygapSE_1.29.0.tar.gz StartedAt: 2025-02-09 21:30:36 -0500 (Sun, 09 Feb 2025) EndedAt: 2025-02-09 21:34:31 -0500 (Sun, 09 Feb 2025) EllapsedTime: 235.5 seconds RetCode: 0 Status: OK CheckDir: ivygapSE.Rcheck Warnings: 0