Package: ivygapSE Version: 1.31.0 Command: /Library/Frameworks/R.framework/Resources/bin/R CMD build --keep-empty-dirs --no-resave-data ivygapSE StartedAt: 2025-10-06 17:34:48 -0400 (Mon, 06 Oct 2025) EndedAt: 2025-10-06 17:37:31 -0400 (Mon, 06 Oct 2025) EllapsedTime: 163.0 seconds RetCode: 0 Status: OK PackageFile: ivygapSE_1.31.0.tar.gz PackageFileSize: 15.35 MiB