Package: ivygapSE Version: 1.29.0 Command: /home/biocbuild/R/R/bin/R CMD build --keep-empty-dirs --no-resave-data ivygapSE StartedAt: 2025-01-28 23:51:10 -0000 (Tue, 28 Jan 2025) EndedAt: 2025-01-28 23:54:03 -0000 (Tue, 28 Jan 2025) EllapsedTime: 173.1 seconds RetCode: 0 Status: OK PackageFile: ivygapSE_1.29.0.tar.gz PackageFileSize: 14.88 MiB