Package: ivygapSE Version: 1.29.0 Command: /Library/Frameworks/R.framework/Resources/bin/R CMD check --install=check:ivygapSE.install-out.txt --library=/Library/Frameworks/R.framework/Resources/library --no-vignettes --timings ivygapSE_1.29.0.tar.gz StartedAt: 2025-02-04 19:51:01 -0500 (Tue, 04 Feb 2025) EndedAt: 2025-02-04 19:52:23 -0500 (Tue, 04 Feb 2025) EllapsedTime: 82.0 seconds RetCode: 0 Status: OK CheckDir: ivygapSE.Rcheck Warnings: 0