Package: ivygapSE Version: 1.29.0 Command: /Library/Frameworks/R.framework/Resources/bin/R CMD build --keep-empty-dirs --no-resave-data ivygapSE StartedAt: 2025-02-04 16:45:01 -0500 (Tue, 04 Feb 2025) EndedAt: 2025-02-04 16:45:55 -0500 (Tue, 04 Feb 2025) EllapsedTime: 53.7 seconds RetCode: 0 Status: OK PackageFile: ivygapSE_1.29.0.tar.gz PackageFileSize: 15.35 MiB