Package: ivygapSE Version: 1.29.0 Command: rm -rf ivygapSE.buildbin-libdir && mkdir ivygapSE.buildbin-libdir && /Users/biocbuild/BBS/utils/build-universal.sh ivygapSE_1.29.0.tar.gz /Library/Frameworks/R.framework/Resources/bin/R ivygapSE.buildbin-libdir StartedAt: 2025-02-04 22:20:40 -0500 (Tue, 04 Feb 2025) EndedAt: 2025-02-04 22:20:52 -0500 (Tue, 04 Feb 2025) EllapsedTime: 11.2 seconds RetCode: 0 Status: OK PackageFile: ivygapSE_1.29.0.tgz PackageFileSize: 15.37 MiB