Package: ivygapSE
Version: 1.29.0
Maintainer: VJ Carey
MaintainerEmail: stvjc at channing.harvard.edu
git_url: https://git.bioconductor.org/packages/ivygapSE
git_branch: devel
git_last_commit: 4df1812
git_last_commit_date: 2024-10-29 10:23:36 -0500 (Tue, 29 Oct 2024)