Package: iterativeBMAsurv Version: 1.65.0 Command: E:\biocbuild\bbs-3.21-bioc\R\bin\R.exe CMD check --no-multiarch --install=check:iterativeBMAsurv.install-out.txt --library=E:\biocbuild\bbs-3.21-bioc\R\library --no-vignettes --timings iterativeBMAsurv_1.65.0.tar.gz StartedAt: 2025-02-04 02:46:19 -0500 (Tue, 04 Feb 2025) EndedAt: 2025-02-04 02:48:02 -0500 (Tue, 04 Feb 2025) EllapsedTime: 102.8 seconds RetCode: 0 Status: WARNINGS CheckDir: iterativeBMAsurv.Rcheck Warnings: 1