Package: iterativeBMAsurv Version: 1.65.0 Command: /Library/Frameworks/R.framework/Resources/bin/R CMD INSTALL iterativeBMAsurv StartedAt: 2025-02-03 15:35:47 -0500 (Mon, 03 Feb 2025) EndedAt: 2025-02-03 15:35:57 -0500 (Mon, 03 Feb 2025) EllapsedTime: 9.5 seconds RetCode: 0 Status: OK