Package: iterativeBMAsurv Version: 1.65.0 Command: /Library/Frameworks/R.framework/Resources/bin/R CMD build --keep-empty-dirs --no-resave-data iterativeBMAsurv StartedAt: 2025-02-03 17:13:20 -0500 (Mon, 03 Feb 2025) EndedAt: 2025-02-03 17:13:44 -0500 (Mon, 03 Feb 2025) EllapsedTime: 24.1 seconds RetCode: 0 Status: OK PackageFile: iterativeBMAsurv_1.65.0.tar.gz PackageFileSize: 197.7 KiB