Package: iterativeBMAsurv Version: 1.65.0 Command: /home/biocbuild/R/R/bin/R CMD check --install=check:iterativeBMAsurv.install-out.txt --library=/home/biocbuild/R/R/site-library --no-vignettes --timings iterativeBMAsurv_1.65.0.tar.gz StartedAt: 2025-01-28 11:49:01 -0000 (Tue, 28 Jan 2025) EndedAt: 2025-01-28 11:50:43 -0000 (Tue, 28 Jan 2025) EllapsedTime: 101.1 seconds RetCode: 0 Status: WARNINGS CheckDir: iterativeBMAsurv.Rcheck Warnings: 1