Package: iterativeBMAsurv Version: 1.67.0 Command: /Library/Frameworks/R.framework/Resources/bin/R CMD INSTALL iterativeBMAsurv StartedAt: 2025-05-08 15:02:52 -0400 (Thu, 08 May 2025) EndedAt: 2025-05-08 15:02:56 -0400 (Thu, 08 May 2025) EllapsedTime: 4.3 seconds RetCode: 0 Status: OK