Package: iterativeBMA Version: 1.65.0 Command: chmod a+r iterativeBMA -R && E:\biocbuild\bbs-3.21-bioc\R\bin\R.exe CMD build --keep-empty-dirs --no-resave-data iterativeBMA StartedAt: 2025-02-03 19:42:27 -0500 (Mon, 03 Feb 2025) EndedAt: 2025-02-03 19:43:04 -0500 (Mon, 03 Feb 2025) EllapsedTime: 37.5 seconds RetCode: 0 Status: OK PackageFile: iterativeBMA_1.65.0.tar.gz PackageFileSize: 159.8 KiB