Package: iterativeBMA Version: 1.65.0 Command: /home/biocbuild/bbs-3.21-bioc/R/bin/R CMD INSTALL iterativeBMA StartedAt: 2025-02-03 15:21:34 -0500 (Mon, 03 Feb 2025) EndedAt: 2025-02-03 15:21:40 -0500 (Mon, 03 Feb 2025) EllapsedTime: 6.3 seconds RetCode: 0 Status: OK