Package: iterativeBMA Version: 1.65.0 Command: /Library/Frameworks/R.framework/Resources/bin/R CMD check --install=check:iterativeBMA.install-out.txt --library=/Library/Frameworks/R.framework/Resources/library --no-vignettes --timings iterativeBMA_1.65.0.tar.gz StartedAt: 2025-02-03 20:26:05 -0500 (Mon, 03 Feb 2025) EndedAt: 2025-02-03 20:26:25 -0500 (Mon, 03 Feb 2025) EllapsedTime: 19.3 seconds RetCode: 0 Status: OK CheckDir: iterativeBMA.Rcheck Warnings: 0