Package: iterativeBMA Version: 1.65.0 Maintainer: Ka Yee Yeung MaintainerEmail: kayee at u.washington.edu git_url: https://git.bioconductor.org/packages/iterativeBMA git_branch: devel git_last_commit: 00a6f3f git_last_commit_date: 2024-10-29 09:29:41 -0500 (Tue, 29 Oct 2024)