Package: isomiRs Version: 1.37.1 Command: /home/biocbuild/bbs-3.22-bioc/R/bin/R CMD INSTALL isomiRs StartedAt: 2025-10-19 15:34:51 -0400 (Sun, 19 Oct 2025) EndedAt: 2025-10-19 15:35:36 -0400 (Sun, 19 Oct 2025) EllapsedTime: 45.1 seconds RetCode: 0 Status: OK