Package: islify Version: 1.3.0 Command: /home/biocbuild/bbs-3.23-bioc/R/bin/R CMD INSTALL islify StartedAt: 2025-11-18 16:06:11 -0500 (Tue, 18 Nov 2025) EndedAt: 2025-11-18 16:06:23 -0500 (Tue, 18 Nov 2025) EllapsedTime: 11.6 seconds RetCode: 0 Status: OK