Package: islify Version: 1.3.0 Command: rm -rf islify.buildbin-libdir && mkdir islify.buildbin-libdir && /Users/biocbuild/BBS/utils/build-universal.sh islify_1.3.0.tar.gz /Library/Frameworks/R.framework/Resources/bin/R islify.buildbin-libdir StartedAt: 2025-11-19 01:34:52 -0500 (Wed, 19 Nov 2025) EndedAt: 2025-11-19 01:35:12 -0500 (Wed, 19 Nov 2025) EllapsedTime: 20.5 seconds RetCode: 0 Status: OK PackageFile: islify_1.3.0.tgz PackageFileSize: 2.083 MiB