Package: islify Version: 1.1.1 Command: /Library/Frameworks/R.framework/Resources/bin/R CMD INSTALL islify StartedAt: 2025-10-28 15:07:40 -0400 (Tue, 28 Oct 2025) EndedAt: 2025-10-28 15:07:46 -0400 (Tue, 28 Oct 2025) EllapsedTime: 6.3 seconds RetCode: 0 Status: OK