Package: islify Version: 1.1.1 Command: /Library/Frameworks/R.framework/Resources/bin/R CMD build --keep-empty-dirs --no-resave-data islify StartedAt: 2025-10-28 16:48:42 -0400 (Tue, 28 Oct 2025) EndedAt: 2025-10-28 16:48:50 -0400 (Tue, 28 Oct 2025) EllapsedTime: 8.1 seconds RetCode: 0 Status: OK PackageFile: islify_1.1.1.tar.gz PackageFileSize: 3.044 MiB