Package: islify Version: 1.1.1 Command: rm -rf islify.buildbin-libdir && mkdir islify.buildbin-libdir && /Users/biocbuild/BBS/utils/build-universal.sh islify_1.1.1.tar.gz /Library/Frameworks/R.framework/Resources/bin/R islify.buildbin-libdir StartedAt: 2025-10-28 23:04:03 -0400 (Tue, 28 Oct 2025) EndedAt: 2025-10-28 23:04:09 -0400 (Tue, 28 Oct 2025) EllapsedTime: 6.1 seconds RetCode: 0 Status: OK PackageFile: islify_1.1.1.tgz PackageFileSize: 2.084 MiB