Package: iscream Version: 1.1.1 Command: /home/biocbuild/bbs-3.23-bioc/R/bin/R CMD INSTALL iscream StartedAt: 2025-11-19 15:14:26 -0500 (Wed, 19 Nov 2025) EndedAt: 2025-11-19 15:16:19 -0500 (Wed, 19 Nov 2025) EllapsedTime: 113.6 seconds RetCode: 0 Status: OK