Package: ipdDb Version: 1.25.0 Command: rm -rf ipdDb.buildbin-libdir && mkdir ipdDb.buildbin-libdir && E:\biocbuild\bbs-3.21-bioc\R\bin\R.exe CMD INSTALL --build --library=ipdDb.buildbin-libdir ipdDb_1.25.0.tar.gz StartedAt: 2025-02-03 07:34:05 -0500 (Mon, 03 Feb 2025) EndedAt: 2025-02-03 07:34:38 -0500 (Mon, 03 Feb 2025) EllapsedTime: 33.3 seconds RetCode: 0 Status: OK PackageFile: ipdDb_1.25.0.zip PackageFileSize: 402.5 KiB