Package: ipdDb Version: 1.27.0 Command: /home/biocbuild/bbs-3.22-bioc/R/bin/R CMD INSTALL ipdDb StartedAt: 2025-09-30 15:26:07 -0400 (Tue, 30 Sep 2025) EndedAt: 2025-09-30 15:26:22 -0400 (Tue, 30 Sep 2025) EllapsedTime: 15.2 seconds RetCode: 0 Status: OK