Package: ipdDb Version: 1.27.0 Command: /home/biocbuild/bbs-3.22-bioc/R/bin/R CMD build --keep-empty-dirs --no-resave-data --md5 ipdDb StartedAt: 2025-09-30 18:14:32 -0400 (Tue, 30 Sep 2025) EndedAt: 2025-09-30 18:14:49 -0400 (Tue, 30 Sep 2025) EllapsedTime: 17.0 seconds RetCode: 0 Status: OK PackageFile: ipdDb_1.27.0.tar.gz PackageFileSize: 22.02 KiB