Package: ipdDb Version: 1.27.0 Command: rm -rf ipdDb.buildbin-libdir && mkdir ipdDb.buildbin-libdir && /Users/biocbuild/BBS/utils/build-universal.sh ipdDb_1.27.0.tar.gz /Library/Frameworks/R.framework/Resources/bin/R ipdDb.buildbin-libdir StartedAt: 2025-05-03 00:48:32 -0400 (Sat, 03 May 2025) EndedAt: 2025-05-03 00:48:58 -0400 (Sat, 03 May 2025) EllapsedTime: 26.1 seconds RetCode: 0 Status: OK PackageFile: ipdDb_1.27.0.tgz PackageFileSize: 408.1 KiB