Package: ipdDb Version: 1.27.0 Command: /Library/Frameworks/R.framework/Resources/bin/R CMD build --keep-empty-dirs --no-resave-data ipdDb StartedAt: 2025-05-06 16:44:13 -0400 (Tue, 06 May 2025) EndedAt: 2025-05-06 16:44:21 -0400 (Tue, 06 May 2025) EllapsedTime: 8.1 seconds RetCode: 0 Status: OK PackageFile: ipdDb_1.27.0.tar.gz PackageFileSize: 20.86 KiB