Package: interactiveDisplay Version: 1.47.1 Command: /home/biocbuild/R/R/bin/R CMD INSTALL interactiveDisplay StartedAt: 2025-10-16 22:20:34 -0000 (Thu, 16 Oct 2025) EndedAt: 2025-10-16 22:21:08 -0000 (Thu, 16 Oct 2025) EllapsedTime: 33.1 seconds RetCode: 0 Status: OK