Package: interactiveDisplay Version: 1.47.1 Command: /home/biocbuild/R/R/bin/R CMD build --keep-empty-dirs --no-resave-data interactiveDisplay StartedAt: 2025-10-17 02:03:35 -0000 (Fri, 17 Oct 2025) EndedAt: 2025-10-17 02:04:40 -0000 (Fri, 17 Oct 2025) EllapsedTime: 65.0 seconds RetCode: 0 Status: OK PackageFile: interactiveDisplay_1.47.1.tar.gz PackageFileSize: 4.557 MiB